BEGIN:VCALENDAR
VERSION:2.0
METHOD:PUBLISH
X-WR-CALNAME: Community Calendar | Newstead\, VictoriaPRODID:-//Drupal iCal API//EN
BEGIN:VEVENT
UID:calendar.1412.field_date.0@newstead.vic.au
SUMMARY:Newstead & District Historical Society
DTSTAMP:20180224T193520Z
DTSTART;TZID=Australia/Victoria;20180129T093000
DTEND;TZID=Australia/Victoria;20180129T120000
URL;VALUE=URI:http://newstead.vic.au/event/2018/01/29/newstead-district-historical-society
END:VEVENT
BEGIN:VEVENT
UID:calendar.1413.field_date.0@newstead.vic.au
SUMMARY:Newstead & District Historical Society
DTSTAMP:20180224T193520Z
DTSTART;TZID=Australia/Victoria;20180205T093000
DTEND;TZID=Australia/Victoria;20180205T120000
URL;VALUE=URI:http://newstead.vic.au/event/2018/02/05/newstead-district-historical-society
END:VEVENT
BEGIN:VEVENT
UID:calendar.1418.field_date.0@newstead.vic.au
SUMMARY:Scrapbooking
DTSTAMP:20180224T193520Z
DTSTART;TZID=Australia/Victoria;20180205T110000
DTEND;TZID=Australia/Victoria;20180205T150000
URL;VALUE=URI:http://newstead.vic.au/event/2018/02/05/scrapbooking
END:VEVENT
BEGIN:VEVENT
UID:calendar.1414.field_date.0@newstead.vic.au
SUMMARY:Newstead & District Historical Society
DTSTAMP:20180224T193520Z
DTSTART;TZID=Australia/Victoria;20180212T093000
DTEND;TZID=Australia/Victoria;20180212T120000
URL;VALUE=URI:http://newstead.vic.au/event/2018/02/12/newstead-district-historical-society
END:VEVENT
BEGIN:VEVENT
UID:calendar.1419.field_date.0@newstead.vic.au
SUMMARY:Scrapbooking
DTSTAMP:20180224T193520Z
DTSTART;TZID=Australia/Victoria;20180219T000000
DTEND;TZID=Australia/Victoria;20180219T000000
URL;VALUE=URI:http://newstead.vic.au/event/2018/02/19/scrapbooking
END:VEVENT
BEGIN:VEVENT
UID:calendar.1415.field_date.0@newstead.vic.au
SUMMARY:Newstead & District Historical Society
DTSTAMP:20180224T193520Z
DTSTART;TZID=Australia/Victoria;20180219T093000
DTEND;TZID=Australia/Victoria;20180219T120000
URL;VALUE=URI:http://newstead.vic.au/event/2018/02/19/newstead-district-historical-society
END:VEVENT
BEGIN:VEVENT
UID:calendar.1416.field_date.0@newstead.vic.au
SUMMARY:Newstead & District Historical Society
DTSTAMP:20180224T193520Z
DTSTART;TZID=Australia/Victoria;20180219T193000
DTEND;TZID=Australia/Victoria;20180219T210000
URL;VALUE=URI:http://newstead.vic.au/event/2018/02/19/newstead-district-historical-society-0
END:VEVENT
BEGIN:VEVENT
UID:calendar.1417.field_date.0@newstead.vic.au
SUMMARY:Newstead & District Historical Society
DTSTAMP:20180224T193520Z
DTSTART;TZID=Australia/Victoria;20180226T093000
DTEND;TZID=Australia/Victoria;20180226T120000
URL;VALUE=URI:http://newstead.vic.au/event/2018/02/26/newstead-district-historical-society
END:VEVENT
END:VCALENDAR
